BEGIN:VCALENDAR
VERSION:2.0
PRODID:-//air des Lyonnaises et des Lyonnais - ECPv6.15.17.1//NONSGML v1.0//EN
CALSCALE:GREGORIAN
METHOD:PUBLISH
X-WR-CALNAME:air des Lyonnaises et des Lyonnais
X-ORIGINAL-URL:https://airdeslyonnais.fr
X-WR-CALDESC:Évènements pour air des Lyonnaises et des Lyonnais
REFRESH-INTERVAL;VALUE=DURATION:PT1H
X-Robots-Tag:noindex
X-PUBLISHED-TTL:PT1H
BEGIN:VTIMEZONE
TZID:Europe/Paris
BEGIN:DAYLIGHT
TZOFFSETFROM:+0100
TZOFFSETTO:+0200
TZNAME:CEST
DTSTART:20250330T010000
END:DAYLIGHT
BEGIN:STANDARD
TZOFFSETFROM:+0200
TZOFFSETTO:+0100
TZNAME:CET
DTSTART:20251026T010000
END:STANDARD
BEGIN:DAYLIGHT
TZOFFSETFROM:+0100
TZOFFSETTO:+0200
TZNAME:CEST
DTSTART:20260329T010000
END:DAYLIGHT
BEGIN:STANDARD
TZOFFSETFROM:+0200
TZOFFSETTO:+0100
TZNAME:CET
DTSTART:20261025T010000
END:STANDARD
BEGIN:DAYLIGHT
TZOFFSETFROM:+0100
TZOFFSETTO:+0200
TZNAME:CEST
DTSTART:20270328T010000
END:DAYLIGHT
BEGIN:STANDARD
TZOFFSETFROM:+0200
TZOFFSETTO:+0100
TZNAME:CET
DTSTART:20271031T010000
END:STANDARD
END:VTIMEZONE
BEGIN:VEVENT
DTSTART;TZID=Europe/Paris:20260427T190000
DTEND;TZID=Europe/Paris:20260427T203000
DTSTAMP:20260424T074257
CREATED:20260415T130814Z
LAST-MODIFIED:20260415T130814Z
UID:30139-1777316400-1777321800@airdeslyonnais.fr
SUMMARY:Assemblée générale 2026
DESCRIPTION:Assemblée générale annuelle.\nOuvert à toutes et tous. \n\nMot du président de séance\nRapport d’activité de l’exercice 2025\nRapport financier de l’exercice 2025\nÉtablissement des montants et conditions de cotisation pour 2026\nRenouvellement éventuel des membres du C.A et du bureau\nPerspectives 2026 avec présentation l’outil « AirMet » à destination des Lyonnaises et des Lyonnais
URL:https://airdeslyonnais.fr/agenda/assemblee-generale-2026/
LOCATION:Maison des associations (MDA) Lyon 4\, 28 rue Denfert-Rochereau\, Lyon\, 69004\, France
ATTACH;FMTTYPE=image/jpeg:https://airdeslyonnais.fr/wp-content/uploads/2026/04/ag2026-agenda.jpg
END:VEVENT
END:VCALENDAR